BEGIN:VCALENDAR
VERSION:2.0
PRODID:-//ChamberMaster//Event Calendar 2.0//EN
METHOD:PUBLISH
X-PUBLISHED-TTL:P3D
REFRESH-INTERVAL:P3D
CALSCALE:GREGORIAN
BEGIN:VEVENT
DTSTART:20140604T153000Z
DTEND:20140604T170000Z
X-MICROSOFT-CDO-ALLDAYEVENT:FALSE
SUMMARY:Women in Business 6-4-14
DESCRIPTION:"How to Stay Young the First One-Hundred Years"\n\nGuest Speaker: Michelle Dinsmore - Ashland Chiropractic\n\n\n\nWomen In Business was formed to educate and empower women in the business world in a safe format that encourages honest dialogue and networking opportunities. This group meets quarterly.
X-ALT-DESC;FMTTYPE=text/html:<span style="font-family: calibri\,sans-serif\;"><span style="font-size: 11pt\;"><strong>&quot\;How to Stay Young the First One-Hundred Years&quot\;</strong><br />\n<span style="color:#b22222\;"><em><strong>Guest Speaker: Michelle Dinsmore - Ashland Chiropractic</strong></em></span></span></span><br />\n<br />\n<em><span style="font-family: calibri\,sans-serif\;"><span style="font-size: 11pt\;"><strong>Women In Business</strong> was formed to educate and empower women in the business world in a safe format that encourages honest dialogue and networking opportunities. This group meets quarterly.</span></span></em>
LOCATION:NEW LOCATION: Bella Bleu's at The Water's Edge Event Center\, LLC 170 Summerset Dr. Ashland
UID:e.1651.682
SEQUENCE:3
DTSTAMP:20260422T122415Z
URL:https://members.ashlandoh.com/events/details/women-in-business-6-4-14-06-04-2014-682
END:VEVENT

END:VCALENDAR
