BEGIN:VCALENDAR
VERSION:2.0
PRODID:-//ChamberMaster//Event Calendar 2.0//EN
METHOD:PUBLISH
X-PUBLISHED-TTL:P3D
REFRESH-INTERVAL:P3D
CALSCALE:GREGORIAN
BEGIN:VEVENT
DTSTART:20121211T160000Z
DTEND:20121211T180000Z
X-MICROSOFT-CDO-ALLDAYEVENT:FALSE
SUMMARY:Women in Business Connection 12-11-12
DESCRIPTION:"Giving With Wisdom"\n\nWomen In Business Swishing Event
X-ALT-DESC;FMTTYPE=text/html:&quot\;Giving With Wisdom&quot\;<br />\nWomen In Business Swishing Event&nbsp\;&nbsp\;&nbsp\; 
LOCATION:Redwood Hall - Ashland University Campus 401 College Ave. Ashland\, OH
UID:e.1651.175
SEQUENCE:3
DTSTAMP:20260423T202001Z
URL:https://members.ashlandoh.com/events/details/women-in-business-connection-12-11-12-12-11-2012-175
END:VEVENT

END:VCALENDAR
