BEGIN:VCALENDAR
VERSION:2.0
PRODID:-//ChamberMaster//Event Calendar 2.0//EN
METHOD:PUBLISH
X-PUBLISHED-TTL:P3D
REFRESH-INTERVAL:P3D
CALSCALE:GREGORIAN
BEGIN:VEVENT
DTSTART:20260109T130000Z
DTEND:20260109T143000Z
X-MICROSOFT-CDO-ALLDAYEVENT:FALSE
SUMMARY:Young Professional Rise & Grind
DESCRIPTION:Kick off the new year with purpose and connection at our Rise & Grind Networking Event hosted by United Way of Ashland County. Join us for coffee\, conversation\, and community impact as we learn how United Way is improving lives through education\, income\, and health initiatives right here in Ashland County.\n\n  Date: Friday\, January 9\, 2026\n\n  Time: 8:00 9:30 AM\n\n  Location: United Way of Ashland County\n\n32 W. South Street\, Ashland\, OH 44805\n\nStart your morning with fellow professionals who are passionate about making a difference and leave inspired to help build a stronger\, healthier community.\n\n  Coffee and light refreshments will be provided.\n\nWe can't wait to see you there!
X-ALT-DESC;FMTTYPE=text/html:<p data-end="532" data-start="215">Kick off the new year with purpose and connection at our <strong data-end="305" data-start="272">Rise &amp\; Grind Networking Event</strong> hosted by <strong data-end="348" data-start="316">United Way of Ashland County</strong>. Join us for coffee\, conversation\, and community impact as we learn how United Way is improving lives through education\, income\, and health initiatives right here in Ashland County.</p>\n\n<p data-end="688" data-start="534">&#128197\; <strong data-end="546" data-start="537">Date:</strong> Friday\, January 9\, 2026<br data-end="573" data-start="570" />\n&#128343\; <strong data-end="585" data-start="576">Time:</strong> 8:00&ndash\;9:30 AM<br data-end="601" data-start="598" />\n&#128205\; <strong data-end="617" data-start="604">Location:</strong> United Way of Ashland County<br data-end="649" data-start="646" />\n32 W. South Street\, Ashland\, OH 44805</p>\n\n<p data-end="847" data-start="690">Start your morning with fellow professionals who are passionate about making a difference&mdash\;and leave inspired to help build a stronger\, healthier community.</p>\n\n<p data-end="949" data-start="849">&#9749\; Coffee and light refreshments will be provided.</p>\n\n<p data-end="1033" data-start="951">We can&rsquo\;t wait to see you there!</p>\n
LOCATION:United Way of Ashland County 32 W. South Street Ashland\, OH 44805
UID:e.1651.6448
SEQUENCE:3
DTSTAMP:20260419T115818Z
URL:https://members.ashlandoh.com/events/details/young-professional-rise-grind-6448
END:VEVENT

END:VCALENDAR
